Workbook
Name norms_groups: INDIRECT("norms[group]")

Sheet PiCD Svenska
A1: The Personality Inventory for ICD-11 (PiCD)
A2: Joshua R. Oltmanns and Thomas A. Widiger
A4: Nedan följer flera påståenden om hur du kan känna eller bete dig. Vänligen besvara varje fråga på det sätt som bäst beskriver dig på en skala från 1 till 5 där: 1 = instämmer inte alls, 2 = instämmer delvis inte, 3 = varken eller (neutral), 4 = instämmer delvis och 5 = instämmer helt Läs varje påstående noggrant och välj det svar som bäst motsvarar hur mycket du instämmer eller inte instämmer. Det finns inga rätta eller felaktiga svar. Beskriv dig själv ärligt och uttryck dina uppfattningar så noggrant som möjligt. För in ditt svar i den gröna kolumnen till höger om sista svarsalternativet.
C5: Instämmer inte alls | D5: Instämmer delvis inte | E5: Varken eller (neutral) | F5: Instämmer delvis | G5: Instämmer helt | H5: Svar
A6: 1 | B6: Jag är vanligtvis en orolig person. | C6: 1 | D6: 2 | E6: 3 | F6: 4 | G6: 5
A7: 2 | B7: Jag brukar agera impulsivt. | C7: 1 | D7: 2 | E7: 3 | F7: 4 | G7: 5
A8: 3 | B8: Jag föredrar att hålla mig borta från andra människor. | C8: 1 | D8: 2 | E8: 3 | F8: 4 | G8: 5
A9: 4 | B9: Jag har hamnat i bråk på grund av min ilska. | C9: 1 | D9: 2 | E9: 3 | F9: 4 | G9: 5
A10: 5 | B10: Jag lägger mycket tid på att organisera och ordna saker. | C10: 1 | D10: 2 | E10: 3 | F10: 4 | G10: 5
A11: 6 | B11: När saker i mitt liv inte går som planerat blir jag väldigt upprörd. | C11: 1 | D11: 2 | E11: 3 | F11: 4 | G11: 5
A12: 7 | B12: Jag är inte en särskilt ansvarstagande person. | C12: 1 | D12: 2 | E12: 3 | F12: 4 | G12: 5
A13: 8 | B13: Andra säger att jag inte visar mina känslor. | C13: 1 | D13: 2 | E13: 3 | F13: 4 | G13: 5
A14: 9 | B14: Andras problem är lustiga för mig. | C14: 1 | D14: 2 | E14: 3 | F14: 4 | G14: 5
A15: 10 | B15: Jag tar inga risker. | C15: 1 | D15: 2 | E15: 3 | F15: 4 | G15: 5
A16: 11 | B16: Mitt humör förändras ofta under veckans gång. | C16: 1 | D16: 2 | E16: 3 | F16: 4 | G16: 5
A17: 12 | B17: Jag är inte en särskilt välorganiserad person. | C17: 1 | D17: 2 | E17: 3 | F17: 4 | G17: 5
... A65: 60 | B65: Jag älskar mottot "tänk innan du agerar". | C65: 1 | D65: 2 | E65: 3 | F65: 4 | G65: 5

Sheet Scoring
A1: Domän | B1: Score | C1: Medelvärde | D1: T =
A2: Negativ affekt | B2: ='PiCD Svenska'!H6+'PiCD Svenska'!H11+'PiCD Svenska'!H16+'PiCD Svenska'!H21+'PiCD Svenska'!H26+'PiCD Svenska'!H31+'PiCD Svenska'!H36+'PiCD Svenska'!H41+'PiCD Svenska'!H46+'PiCD Svenska'!H51+'PiCD Svenska'!H56+'PiCD Svenska'!H61 -> 0 | C2: =B2/12 -> 0 | D2: =50 + 10 * ((B2 - _xlfn.XLOOKUP(B7, norms[group], norms[na_m])) / _xlfn.XLOOKUP(B7, norms[group], norms[na_sd])) -> 16.039953
A3: Dysinhibering | B3: ='PiCD Svenska'!H7+'PiCD Svenska'!H12+'PiCD Svenska'!H17+'PiCD Svenska'!H22+'PiCD Svenska'!H27+'PiCD Svenska'!H32+'PiCD Svenska'!H37+'PiCD Svenska'!H42+'PiCD Svenska'!H47+'PiCD Svenska'!H52+'PiCD Svenska'!H57+'PiCD Svenska'!H62 -> 0 | C3: =B3/12 -> 0 | D3: =50 + 10 * ((B3 - _xlfn.XLOOKUP(B7, norms[group], norms[di_m])) / _xlfn.XLOOKUP(B7, norms[group], norms[di_sd])) -> 13.708207
A4: Distansering | B4: ='PiCD Svenska'!H8+'PiCD Svenska'!H13+'PiCD Svenska'!H18+'PiCD Svenska'!H23+'PiCD Svenska'!H28+'PiCD Svenska'!H33+'PiCD Svenska'!H38+'PiCD Svenska'!H43+'PiCD Svenska'!H48+'PiCD Svenska'!H53+'PiCD Svenska'!H58+'PiCD Svenska'!H63 -> 0 | C4: =B4/12 -> 0 | D4: =50 + 10 * ((B4 - _xlfn.XLOOKUP(B7, norms[group], norms[det_m])) / _xlfn.XLOOKUP(B7, norms[group], norms[det_sd])) -> 18.356164
A5: Dissocialitet | B5: ='PiCD Svenska'!H9+'PiCD Svenska'!H14+'PiCD Svenska'!H19+'PiCD Svenska'!H24+'PiCD Svenska'!H29+'PiCD Svenska'!H34+'PiCD Svenska'!H39+'PiCD Svenska'!H44+'PiCD Svenska'!H49+'PiCD Svenska'!H54+'PiCD Svenska'!H59+'PiCD Svenska'!H64 -> 0 | C5: =B5/12 -> 0 | D5: =50 + 10 * ((B5 - _xlfn.XLOOKUP(B7, norms[group], norms[ds_m])) / _xlfn.XLOOKUP(B7, norms[group], norms[ds_sd])) -> 10.195759
A6: Anankasm | B6: ='PiCD Svenska'!H10+'PiCD Svenska'!H15+'PiCD Svenska'!H20+'PiCD Svenska'!H25+'PiCD Svenska'!H30+'PiCD Svenska'!H35+'PiCD Svenska'!H40+'PiCD Svenska'!H45+'PiCD Svenska'!H50+'PiCD Svenska'!H55+'PiCD Svenska'!H60+'PiCD Svenska'!H65 -> 0 | C6: =B6/12 -> 0 | D6: =50 + 10 * ((B6 - _xlfn.XLOOKUP(B7, norms[group], norms[an_m])) / _xlfn.XLOOKUP(B7, norms[group], norms[an_sd])) -> -10.160772
A7: Normgrupp | B7: danish_community | D7: < välj
A8: Namn | B8: =_xlfn.XLOOKUP(B7, norms[group], norms[desc_swe]) -> dansk normalpopulation
A9: Referens | B9: =_xlfn.XLOOKUP(B7, norms[group], norms[reference]) -> Grunert, G. V., & Bach, B. (2026). Personality Inventory for ICD-11 (PiCD) Trait Domains: Psychometric Properties and Cutoffs Based on General Population Norms.

Sheet Sammanfattning
A1: Texten nedan är automatgenererad och visas korrekt först efter att värden för alla items har fyllts i. Texten är formaterad för att rymmas i en textruta med max 2000 tecken och 29 rader. Markera alla rader i rutan och tryck ctrl + C (Windows) eller command + C (macOS).
A3: THE PERSONALITY INVENTORY FOR ICD-11 (PiCD)
A5: ="PiCD är ett traitpsykologiskt självskattningsinstrument för kartläggning av personlighetsdrag enligt ICD-11. Nedan presenteras medelvärden (1 - 5) och jämförelse med normgrupp "&Scoring!B8&"* (medelvärde T = 50, 1 sd = 10 t-poäng)." -> PiCD är ett traitpsykologiskt självskattningsinstrument för kartläggning av personlighetsdrag enligt ICD-11. Nedan presenteras medelvärden (1 - 5) och jämförelse med normgrupp dansk normalpopulation* (medelvärde T = 50, 1 sd = 10 t-poäng).
A7: =("Negativ affekt: "&ROUND(Scoring!C2,1))&" (T = "&ROUND(Scoring!D2,0)&")" -> Negativ affekt: 0 (T = 16)
A8: =("Dysinhibering: "&ROUND(Scoring!C3,1))&" (T = "&ROUND(Scoring!D3,0)&")" -> Dysinhibering: 0 (T = 14)
A9: =("Distansering: "&ROUND(Scoring!C4,1))&" (T = "&ROUND(Scoring!D4,0)&")" -> Distansering: 0 (T = 18)
A10: =("Dissocialitet: "&ROUND(Scoring!C5,1))&" (T = "&ROUND(Scoring!D5,0)&")" -> Dissocialitet: 0 (T = 10)
A11: =("Anankasm: "&ROUND(Scoring!C6,1))&" (T = "&ROUND(Scoring!D6,0)&")" -> Anankasm: 0 (T = -10)
A13: ="* referens: "&Scoring!B9 -> * referens: Grunert, G. V., & Bach, B. (2026). Personality Inventory for ICD-11 (PiCD) Trait Domains: Psychometric Properties and Cutoffs Based on General Population Norms.

Sheet Information
A1: Detta ark kan användas för att administrera och beräkna resultat för The Personality Inventory for ICD-11 (PiCD) skapat av Joshua R. Oltmanns och Thomas A. Widiger.
A2: PiCD har översatts från engelska med författarnas tillstånd av Saila Aho, Andreas Bygdell, Henrik Esbjörnsson, Niklas Liljedahl & Lina Markeby.
A3: Detta ark har skapats av Andreas Bygdell. Ingen garanti lämnas för arkets funktion eller korrekta resultat. Synpunkter och förslag kan skickas till kontakt@bygdell.se.
A4: Under fliken "scoring" visas resultat och jämförelse med tillgängliga normgrupper. Önskad normgrupp kan väljas i den gröna rutan. De tillgängliga normgrupperna kan ses under fliken "normgrupper" där det även är möjligt att addera saknade.
A5: Under fliken "sammanfattning" ges löptext som kan användas som utkast till skriven sammanfattning av resultat.
A6: Nya versioner hämtas från: https://www.bygdell.se/
A7: Version 1, 2025-07-11: Normgrupper för spansk normal- och klinisk population.
A8: Version 2, 2026-05-25: Normgrupper för dansk och polsk normalpopulation.

Sheet Normgrupper
A1: group | B1: na_m | C1: na_sd | D1: di_m | E1: di_sd | F1: det_m | G1: det_sd | H1: ds_m | I1: ds_sd | J1: an_m | K1: an_sd | L1: desc_swe | M1: desc_eng | N1: reference
A2: spanish_community | B2: 31.9 | C2: 8.1 | D2: 24.2 | E2: 7.5 | F2: 25.7 | G2: 7.5 | H2: 21.8 | I2: 6.9 | J2: 39.5 | K2: 7.2 | L2: spansk normalpopulation | M2: Spanish community sample | N2: Gutiérrez et al. (2021) Personality Disorders in the ICD-11: Spanish Validation of the PiCD and the SASPD in a Mixed Community and Clinical Sample.
A3: spanish_clinical | B3: 42.3 | C3: 8.4 | D3: 27.8 | E3: 8.5 | F3: 29.4 | G3: 8.8 | H3: 23.8 | I3: 7.5 | J3: 40.1 | K3: 7.2 | L3: spansk klinisk population | M3: Spanish clinical sample | N3: Gutiérrez et al. (2021) Personality Disorders in the ICD-11: Spanish Validation of the PiCD and the SASPD in a Mixed Community and Clinical Sample.
A4: danish_community | B4: 28.9 | C4: 8.51 | D4: 23.88 | E4: 6.58 | F4: 25.41 | G4: 8.03 | H4: 24.4 | I4: 6.13 | J4: 37.42 | K4: 6.22 | L4: dansk normalpopulation | M4: Danish community sample | N4: Grunert, G. V., & Bach, B. (2026). Personality Inventory for ICD-11 (PiCD) Trait Domains: Psychometric Properties and Cutoffs Based on General Population Norms.
A5: danish_comunity_weighted | B5: 29.47 | C5: 8.63 | D5: 24.27 | E5: 6.87 | F5: 26.08 | G5: 8.27 | H5: 24.86 | I5: 6.51 | J5: 37.64 | K5: 6.34 | L5: dansk normalpopulation (justerad) | M5: Danish community sample (weight-adjusted) | N5: Grunert, G. V., & Bach, B. (2026). Personality Inventory for ICD-11 (PiCD) Trait Domains: Psychometric Properties and Cutoffs Based on General Population Norms.
A6: polish_community | B6: 33.48 | C6: 7.8 | D6: 25.92 | E6: 6.84 | F6: 26.4 | G6: 7.2 | H6: 24.72 | I6: 6.6 | J6: 39.12 | K6: 5.88 | L6: polsk normalpopulation | M6: Polish community sample | N6: Cieciuch, J., Łakuta, P., Strus, W., Oltmanns, J. R. & Widiger, T. (2022). Assessment of personality disorder in the ICD-11 diagnostic system: Polish validation of the Personality Inventory for ICD-11.
